Workbook

Sheet Datos Generales
B2: Para llenar datos principales, en el caso que tenga variación en nombres y cargos, favor actualizar en el lugar correspondiente
B4: Los datos imputados en estas celdas, llenaran todos los formularios que requieran de esas informaciones.
B6: Fecha | C6: 46203
B7: Institución | C7: Consejo Nacional de Zonas Francas de Exp.
B8: Capítulo | C8: 5150
B9: Sub-Capítulo | C9: 01
B10: DAF | C10: 01
B11: UE | C11: 0001
B13: AL | C13: 44742
C16: Preparado por | D16: Revisado por | E16: Autorizado por
C17: Puesto que ocupa | D17: Puesto que ocupa | E17: Puesto que ocupa
C18: 44742 | D18: 44742 | E18: 44742

Sheet 02-43 Inv. de Bienes de Consumo
Q4: Seleccione Fecha | S4: Columna con formula
Q5: Al 01 de enero 2022
B6: Dirección General de Contabilidad Gubernamental | Q6: Al 01 de abril 2022
B7: Formulario Inventario de Bienes De Consumo | Q7: Al 01 de julio 2022
B8: Valor RD$ | Q8: Al 01 de octubre 2022
Q9: Al 01 de diciembre 2022
E10: Fecha: | F10: ='Datos Generales'!C6 -> 46203 | J10: Sub-Capítulo: | K10: ='Datos Generales'!C9 -> 01 | Q10: Seleccione Fecha
E11: Institución: | F11: ='Datos Generales'!C7 -> Consejo Nacional de Zonas Francas de Exp. | J11: DAF: | K11: =+'Datos Generales'!C10 -> 01 | Q11: Al 31 de marzo 2022
E12: Capítulo: | F12: ='Datos Generales'!C8 -> 5150 | J12: UE: | K12: =+'Datos Generales'!C11 -> 0001 | Q12: Al 30 junio 2020
Q13: Al 30 septiembre 2022
C14: Cuenta Contable | D14: CCP. Auxiliar | E14: Fondo | F14: Descripción | G14: (A) Balance Inicial | H14: Balance Inicial Última Actualización | I14: (B) Entradas | K14: (C) Salidas | L14: D = ( A + B - C) Balance Final | M14: Aumento / Disminución | N14: Observaciones | Q14: Al 31diciembre 2022
H15: Al 01 de enero 2022 | I15: Por ejecución Presupuestaria | J15: Captación Directa y/o Donaciones | L15: Al 31 de marzo 2022
L16: =G16+I16+J16-K16 -> 0
L17: =G17+I17+J17-K17 -> 0
L18: =G18+I18+J18-K18 -> 0
L19: =G19+I19+J19-K19 -> 0
L20: =G20+I20+J20-K20 -> 0
L21: =G21+I21+J21-K21 -> 0
L22: =G22+I22+J22-K22 -> 0
L23: =G23+I23+J23-K23 -> 0
L24: =G24+I24+J24-K24 -> 0
L25: =G25+I25+J25-K25 -> 0
L26: =G26+I26+J26-K26 -> 0
L27: =G27+I27+J27-K27 -> 0
... L101: =G101+I101+J101-K101 -> 0
C102: TOTALES RD$ | G102: =SUM(G16:G101) -> 0 | I102: =SUM(I16:I101) -> 0 | K102: =SUM(K16:K101) -> 0 | L102: =SUM(L16:L101) -> 0 | M102: =SUM(M16:M101) -> 0
N103: DG-INS-02-43
D105: ='Datos Generales'!C16 -> Preparado por | G105: ='Datos Generales'!D16 -> Revisado por | L105: ='Datos Generales'!E16 -> Autorizado por
D107: ='Datos Generales'!C17 -> Puesto que ocupa | G107: ='Datos Generales'!D17 -> Puesto que ocupa | L107: ='Datos Generales'!E17 -> Puesto que ocupa
D109: Fecha de preparación | G109: Fecha de revisión | L109: Fecha de autorización

Sheet 02-43 Inv. de Bienes de Consum
B7: Dirección General de Contabilidad Gubernamental
B8: Formulario de Bienes De Consumo
B9: Valor RD$
F12: Institución: | G12: =+'Datos Generales'!C7 -> Consejo Nacional de Zonas Francas de Exp.
C14: Fecha: | D14: ='Datos Generales'!C6 -> 46203 | E14: Capítulo: | F14: ='Datos Generales'!C8 -> 5150 | G14: Sub-Capítulo: | H14: ='Datos Generales'!C9 -> 01 | I14: DAF: | J14: =+'Datos Generales'!C10 -> 01 | K14: UE: | L14: =+'Datos Generales'!C11 -> 0001
C18: Fuente Específica | D18: Partida Presupuestaria | E18: Cuenta Contable | F18: Nombre Cuenta Contable | H18: Entradas | J18: Consumo/ Salidas de Almacén | K18: Seleccione Fecha | L18: Observaciones
G19: Balance Inicial | H19: Por Ejecución Presupuestaria | I19: Recursos Captación directa y/o Donaciones | K19: Balance Final
N20: Seleccione Fecha | O20: Seleccione Fecha
C21: 0100 | D21: 2.3.1.1.01 | E21: 11050019901 | F21: Aceite Oliva Lider 750 Ml | G21: 6926.73 | H21: 7556.6898 | I21: 0 | J21: 10991.549 | K21: =+G21+H21+I21-J21 -> 3491.871
C22: 0100 | D22: 2.3.1.1.01 | E22: 11050019901 | F22: Aceite Oliva Lider Galón | G22: 17697.7 | H22: 23597.59 | J22: 26547.289 | K22: =+G22+H22+I22-J22 -> 14748.001
C23: 0100 | D23: 2.3.9.1.01 | E23: 11050019901 | F23: Aerosol Glade d/varios aromas | G23: 3055.64 | H23: 3698.7105 | J23: 3698.7105 | K23: =+G23+H23+I23-J23 -> 3055.64
C24: 0100 | D24: 2.3.1.1.01 | E24: 11050019901 | F24: Agua Crystal 0.5 L (1/20) | G24: 8515.92 | H24: 12715.973 | J24: 19765.045 | K24: =+G24+H24+I24-J24 -> 1466.8479
C25: 0100 | D25: 2.3.1.1.01 | E25: 11050019901 | F25: Agua Mondariz | G25: 0 | H25: 27965 | J25: 0 | K25: =+G25+H25+I25-J25 -> 27965
C26: 0100 | D26: 2.3.9.3.01 | E26: 11050019901 | F26: Alcohol Isopropilico 75% GL | G26: 4723.1 | H26: 4723.1001 | J26: 6297.4668 | K26: =+G26+H26+I26-J26 -> 3148.7333
C27: 0100 | D27: 2.3.9.1.01 | E27: 11050019901 | F27: Ambientador Dispensadores 6.2 | G27: 6289.35 | H27: 31166.608 | J27: 25152 | K27: =+G27+H27+I27-J27 -> 12303.959
C28: 0100 | D28: 2.3.9.1.01 | E28: 11050019901 | F28: Ambientador Plugins | G28: 4318.65 | H28: 4318.65 | J28: 4318.65 | K28: =+G28+H28+I28-J28 -> 4318.65
C29: 0100 | D29: 2.3.9.1.01 | E29: 11050019901 | F29: Ase brillante 400 G | G29: 3676.86 | H29: 3676.89 | J29: 5165.155 | K29: =+G29+H29+I29-J29 -> 2188.595
C30: 0100 | D30: 2.3.1.1.01 | E30: 11050019901 | F30: Azucar Crema 5 Lbs. | G30: 3905.57 | H30: 14755.621 | J30: 10800.506 | K30: =+G30+H30+I30-J30 -> 7860.6848
C31: 0100 | D31: 2.3.1.1.01 | E31: 11050019901 | F31: Azucar Refino 5/lbs. | G31: 5637.54 | H31: 9054.0882 | J31: 10395.435 | K31: =+G31+H31+I31-J31 -> 4296.1936
C32: 0100 | D32: 2.3.1.1.01 | E32: 11050019901 | F32: Azucar Splenda 100/Sobres | G32: 4831.53 | H32: 5549.4096 | J32: 7531.3416 | K32: =+G32+H32+I32-J32 -> 2849.598
C33: 0100 | D33: 2.3.9.2.01 | E33: 11050019901 | F33: Bandejas p/Escritorios | G33: 2999.7 | H33: 2999.7018 | J33: 3666.3022 | K33: =+G33+H33+I33-J33 -> 2333.0996
C34: 0100 | D34: 2.3.9.2.01 | E34: 11050019901 | F34: Banditas de Gomas | G34: 1249.73 | H34: 1629.6917 | J34: 1875.6829 | K34: =+G34+H34+I34-J34 -> 1003.7388
C35: 0100 | D35: 2.3.9.2.01 | E35: 11050019901 | F35: Base Agenda Esc.T/Libro G/Meta | G35: 2675.59 | H35: 2675.5026 | J35: 2791.8288 | K35: =+G35+H35+I35-J35+4.15 -> 2563.4138
C36: 0100 | D36: 2.3.9.6.01 | E36: 11050019901 | F36: Bateria AA Duracell | G36: 1401.48 | H36: 3276.4984 | J36: 4673.8286 | K36: 0
C37: 0100 | D37: 2.3.9.6.01 | E37: 11050019901 | F37: Bateria 9 Volt. Duracell | G37: 3876 | H37: 3875.9808 | J37: 4844.976 | K37: =+G37+H37+I37-J37 -> 2907.0048
C38: 0100 | D38: 2.3.9.6.01 | E38: 11050019901 | F38: Bateria AAA Duracel | G38: 1324.15 | H38: 3199.1696 | J38: 2626.184 | K38: =+G38+H38+I38-J38 -> 1897.1356
C39: 0100 | D39: 2.3.9.1.01 | E39: 11050019901 | F39: Brillo de Alambre | G39: 864.58 | H39: 864.5692 | J39: 1100.3608 | K39: =+G39+H39+I39-J39 -> 628.7884
C40: 0100 | D40: 2.3.9.1.01 | E40: 11050019901 | F40: Brillo Gris | G40: 157.74 | H40: 157.7403 | J40: 157.7403 | K40: =+G40+H40+I40-J40 -> 157.74
C41: 0100 | D41: 2.3.9.1.01 | E41: 11050019901 | F41: Brillo verde | G41: 196.62 | H41: 196.6176 | J41: 262.1568 | K41: 131.08
C42: 0100 | D42: 2.3.9.2.01 | E42: 11050019901 | F42: Cable Tef. 25' Liso | G42: 1169.8 | H42: 1169.842 | J42: 1169.842 | K42: =+G42+H42+I42-J42 -> 1169.8
C43: 0100 | D43: 2.3.9.2.01 | E43: 11050019901 | F43: Cable Tef. Espirarl 8' | G43: 2400 | H43: 2400 | J43: 2775 | K43: =+G43+H43+I43-J43 -> 2025
C44: 0100 | D44: 2.3.3.2.01 | E44: 11050019901 | F44: Cafe Molido D/una Libra | G44: 55536.28 | H44: 151524.24 | J44: 148638.06 | K44: =+G44+H44+I44-J44+0.02+0.05 -> 58422.526
C45: 0100 | D45: 2.3.9.2.01 | E45: 11050019901 | F45: Cajas Carton p/Archivo | G45: 6168.3 | H45: 6168.3 | J45: 12336.576 | K45: 0
C46: 0100 | D46: 2.3.9.2.01 | E46: 11050019901 | F46: Carpetas W Jones 1 " Negras | G46: 287.07 | H46: 287.025 | J46: 574.05 | K46: 0
C47: 0100 | D47: 2.3.9.2.01 | E47: 11050019901 | F47: Carpetas W Jones 1" Blanc | G47: 932.47 | H47: 932.481 | J47: 1186.794 | K47: =+G47+H47+I47-J47 -> 678.157
C48: 0100 | D48: 2.3.9.2.01 | E48: 11050019901 | F48: Carpetas W Jones 1" Azul | G48: 294.9 | H48: 294.9027 | J48: 294.9027 | K48: =+G48+H48+I48-J48 -> 294.9
C49: 0100 | D49: 2.3.9.2.01 | E49: 11050019901 | F49: Carpetas Wilson Jones 2" Blanc | G49: 3546.84 | H49: 3546.8499 | J49: 3546.8499 | K49: =+G49+H49+I49-J49 -> 3546.84
C50: 0100 | D50: 2.3.9.2.01 | E50: 11050019901 | F50: Carpetas Wilson Jones 2" Negra | G50: 2996.25 | H50: 2996.2401 | J50: 3424.2744 | K50: =+G50+H50+I50-J50 -> 2568.2157
C51: 0100 | D51: 2.3.9.2.01 | E51: 11050019901 | F51: Carpetas Wilson Jones 3" Blanc | G51: 4860.95 | H51: 9852.47 | J51: 8079.0254 | K51: =+G51+H51+I51-J51 -> 6634.3946
C52: 0100 | D52: 2.3.9.2.01 | E52: 11050019901 | F52: Carpetas Wilson Jones 3" Negra | G52: 10510.92 | H52: 18015.704 | J52: 18015.704 | K52: =+G52+H52+I52-J52 -> 10510.92
...

Sheet LEV.SUMINISTRO JUNIO 2026
D3: RELACION DE INVENTARIO DE SUMINISTRO DE ALMACEN
D4: TRIMESTRE ABRIL -JUNIO 2026
A8: Fecha de Registro | B8: Fecha de Adquisición | C8: Codigo | D8: Descripcion | E8: Medida | F8: Entrada | G8: Salida | H8: Existencia | I8: Costo RD$ | J8: Valor RD$
C9: 001-0000 | D9: PROD.PAPEL, CARTON E IMPRESOS | J9: =SUM(J10:J77) -> 265729.27
A10: 46125 | B10: 46125 | C10: 001-0001 | D10: Papel Bond 20 8 1/2 X 11 | E10: Resma | F10: 452 | G10: 349 | H10: 103 | I10: 216.0301 | J10: 22251.1
A11: 46125 | B11: 46125 | C11: 001-0003 | D11: Papel Bond 20 8 1/2 X 14 | E11: Resma | F11: 41 | G11: 17 | H11: 24 | I11: 269.6795 | J11: 6472.308
A12: 46125 | B12: 46125 | C12: 001-0004 | D12: Papel Timbrado 8 1/2 X 11 | E12: Resma | F12: 28 | G12: 19 | H12: 9 | I12: 890.803 | J12: 8017.227
A13: 46125 | B13: 46125 | C13: 001-0010 | D13: Cartulina hilo 8 1/2x11/blanca | E13: Resma | F13: 3 | G13: 0 | H13: 3 | I13: 543.9967 | J13: 1631.9901
A14: 46125 | B14: 46125 | C14: 001-0013 | D14: Desembolsos Cja.Chica Sto.Dgo. | E14: Block | F14: 7 | G14: 4 | H14: 3 | I14: 324.8475 | J14: 974.5425
A15: 46125 | B15: 46125 | C15: 001-0016 | D15: Recibos Ingresos Prov.Sto.Dgo. | E15: Block | F15: 28 | G15: 0 | H15: 28 | I15: 197.7413 | J15: 5536.7564
A16: 46125 | B16: 46125 | C16: 001-0017 | D16: Recibo Ingresos Prov.Stgo. | E16: Block | F16: 16 | G16: 2 | H16: 14 | I16: 212.4 | J16: 2973.6
A17: 46125 | B17: 46125 | C17: 001-0026 | D17: Control de LLamadas Telefonica | E17: Block | F17: 40 | G17: 0 | H17: 40 | I17: 152.4852 | J17: 6099.408
A18: 46125 | B18: 46125 | C18: 001-0028 | D18: Formularios de Exp.Sto. Dgo. | E18: Block | F18: 145 | G18: 0 | H18: 145 | I18: 109.3083 | J18: 15849.704
A19: 46125 | B19: 46125 | C19: 001-0032 | D19: Control de Insp.Vehiculos | E19: Block | F19: 14 | G19: 0 | H19: 14 | I19: 263.0769 | J19: 3683.0766
A20: 46125 | B20: 46125 | C20: 001-0033 | D20: Foulder Manila 8 1/2x11" | E20: Cajas | F20: 15 | G20: 8 | H20: 7 | I20: 216.2513 | J20: 1513.7591
A21: 46125 | B21: 46125 | C21: 001-0036 | D21: Foulder Satinado Azul | E21: Cajas | F21: 13 | G21: 5 | H21: 8 | I21: 1515.3852 | J21: 12123.082
... A37: 46125 | B37: 46125 | C37: 001-0067 | D37: Separadores de Carpetas 1-12 | E37: Paquetes | F37: 22 | G37: 12 | H37: 10 | I37: 94.4709 | J37: 944.709
A38: 46125 | B38: 46125 | C38: 001-0072 | D38: Protector de Hojas | F38: 14 | G38: 2 | H38: 12 | I38: 162.9921 | J38: 1955.9052
A39: 46125 | B39: 46125 | C39: 001-0074 | D39: Separadores Carpetas 1-15 | E39: Paquetes | F39: 11 | G39: 0 | H39: 11 | I39: 120.8275 | J39: 1329.1025
A40: 46125 | B40: 46125 | C40: 001-0075 | D40: Desembolsos Caja Viaticos | E40: Talonari | F40: 14 | G40: 1 | H40: 13 | I40: 257.8509 | J40: 3352.0617
A41: 46125 | B41: 46125 | C41: 001-0077 | D41: Papel Satinado 8 1/2x11Brochur | E41: Resma | F41: 10 | G41: 0 | H41: 10 | I41: 752.5 | J41: 7525
A42: 46125 | B42: 46125 | C42: 001-0078 | D42: Cinta P/Impresora 7753 | E42: Unidad | F42: 2 | G42: 0 | H42: 2 | I42: 125 | J42: 250
A43: 46125 | B43: 46125 | C43: 001-0079 | D43: Libro Record 300 Pág. | E43: unidad | F43: 13 | G43: 1 | H43: 12 | I43: 165.9129 | J43: 1990.9548
A44: 46125 | B44: 46125 | C44: 001-0087 | D44: Pendaflex 9 1/2 x 14 | E44: Caja | F44: 13 | G44: 9 | H44: 4 | I44: 724.27 | J44: 2897.08
A45: 46125 | B45: 46125 | C45: 001-0088 | D45: Separadores Carpetas 1-31 | E45: 101 | F45: 14 | G45: 6 | H45: 8 | I45: 215 | J45: 1720
A46: 46125 | B46: 46125 | C46: 001-0091 | D46: Cinta p/Impresora zebra S/1 | E46: Unidad | F46: 6 | G46: 0 | H46: 6 | I46: 2085.06 | J46: 12510.36
A47: 46125 | B47: 46125 | C47: 001-0092 | D47: Cinta ZC Serie100/300 | E47: Unidad | F47: 3 | G47: 0 | H47: 3 | I47: 4747.73 | J47: 14243.19
A48: 46125 | B48: 46125 | C48: 001-0094 | D48: Cartulina Opalina Blanca 8 1/2 | E48: CAJA | F48: 3 | G48: 1 | H48: 2 | I48: 310 | J48: 620
A49: 46125 | B49: 46125 | C49: 001-0096 | D49: Tabla Gancho 8 1/2 x 11Carton | E49: Unidad | F49: 4 | G49: 0 | H49: 4 | I49: 56.05 | J49: 224.2
A50: 46125 | B50: 46125 | C50: 002-0001 | D50: Lapiz Carbon Berol Mirado | E50: Unidad | F50: 510 | G50: 46 | H50: 464 | I50: 9.9492 | J50: 4616.4288
... A77: 46125 | B77: 46125 | C77: 006-0041 | D77: Tinta Ideal, Verde 2 Onz | E77: unidad | F77: 1 | G77: 0 | H77: 1 | I77: 188.01 | J77: 188.01
C78: 007-0000 | D78: TONER | F78: 0 | G78: 0 | H78: 0 | I78: 0 | J78: =SUM(J79:J122) -> 1813087.8
A79: 46125 | B79: 46125 | C79: 007-0001 | D79: Toner Laser HP Q7583A Rojo | E79: Unidad | F79: 1 | G79: 0 | H79: 1 | I79: 7814.6333 | J79: 7814.6333
A80: 46125 | B80: 46125 | C80: 007-0002 | D80: Toner Laser Hp Q7582A Amarillo | E80: Unidad | F80: 3 | G80: 0 | H80: 3 | I80: 8298.13 | J80: 24894.39
A81: 46125 | B81: 46125 | C81: 007-0003 | D81: Toner Laser HP Q7581A Azul | E81: Unidad | F81: 3 | G81: 0 | H81: 3 | I81: 8025.11 | J81: 24075.33
A82: 46125 | B82: 46125 | C82: 007-0005 | D82: Toner Laser HP Q6470A Negro | E82: Unidad | F82: 2 | G82: 0 | H82: 2 | I82: 6587.695 | J82: 13175.39
A83: 46125 | B83: 46125 | C83: 007-0006 | D83: Toner Laser HP Q5949A | E83: Unidad | F83: 6 | G83: 0 | H83: 6 | I83: 6952.2483 | J83: 41713.49
A84: 46125 | B84: 46125 | C84: 007-0009 | D84: Toner Laser HP Q2613A | E84: Unidad | F84: 5 | G84: 0 | H84: 5 | I84: 2599.998 | J84: 12999.99
A85: 46125 | B85: 46125 | C85: 007-0011 | D85: Toner Toshiba T-170-F | E85: Unidad | F85: 2 | G85: 0 | H85: 2 | I85: 7014.326 | J85: 14028.652
A86: 46125 | B86: 46125 | C86: 007-0012 | D86: Toner Ricoh 1135 Lanier | E86: Unidad | F86: 1 | G86: 0 | H86: 1 | I86: 6204.26 | J86: 6204.26
...
