Workbook
Name _Toc208202775: 'NOTAS '!#REF!
Name _Toc243798066: 'NOTAS '!#REF!
Name _Toc243798067: 'NOTAS '!#REF!
Name _Toc243798068: 'NOTAS '!#REF!
Name _Toc243798069: 'NOTAS '!#REF!
Name _Toc243798070: 'NOTAS '!#REF!
Name _Toc243798071: 'NOTAS '!#REF!

Sheet BALANCE GENERAL
A6: CONSEJO NACIONAL DE ZONAS FRANCAS DE EXPORTACION (5150)
A7: Estado de Situacion Financiera
A8: Al 30 de junio semestre 2026 y 30 de junio semestre 2025
A9: ( VALORES EN RD$)
B10: 2026 | D10: 2025 | H10: ENERO DIC.2024 | I10: ENERO-DIC. 2025 | J10: VARIACIONES
A11: ACTIVOS
A12: Activos Corrientes
A13: Efectivo y equivalentes de efectivo (Nota 7) | B13: =+'NOTAS '!F143 -> 99864867 | D13: =+'NOTAS '!H143 -> 1.3885809e+08
A14: Cuentas por Cobrar a corto plazo (Notas 8) | B14: =+'NOTAS '!F161 -> 4754924.8 | D14: =+'NOTAS '!H161 -> 3273793.1 | H14: 2346100
A15: Inventarios (Nota 9) | B15: =+'NOTAS '!F174 -> 2559893.3 | D15: =+'NOTAS '!H174 -> 2488262.4
A16: Pagos anticipados (Nota 10) | B16: =+'NOTAS '!F187 -> 3225292.8 | D16: =+'NOTAS '!H187 -> 1631208
A17: Total Activos Corrientes | B17: =SUM(B13:B16) -> 1.1040498e+08 | D17: =SUM(D13:D16) -> 1.4625136e+08
A19: Activos no corrientes
A20: Cuentas por Cobrar a largo plazo (Notas 11) | B20: =+'NOTAS '!F200 -> 4232626.2 | D20: =+'NOTAS '!H200 -> 6391125.5 | F20: =+D20-B20 -> 2158499.2 | G20: empleado feliz | H20: 6600850 | I20: 4386242 | J20: =+I20-B20 -> 153615.76 | K20: empleado feliz
A21: Propiedad, planta y equipos neto (Nota 12) | B21: =+'NOTAS '!F244 -> 26332688 | D21: =+'NOTAS '!F260 -> 20678574
A22: Activos intangibles (Nota 13) | B22: =+'NOTAS '!F270 -> 8 | D22: =+'NOTAS '!H270 -> 25
A23: Total activos no corrientes | B23: =SUM(B20:B22) -> 30565322 | D23: =SUM(D20:D22) -> 27069725
A24: Total Activos | B24: =+B17+B23 -> 1.409703e+08 | D24: =+D17+D23 -> 1.7332108e+08
A26: Pasivos
A27: Pasivos corrientes
A28: Cuentas por pagar a corto plazo (Nota 14) | B28: =+'NOTAS '!F281 -> 26292167 | D28: =+'NOTAS '!H281 -> 16163593 | H28: 13286893
A29: Retenciones y acumulaciones por pagar (Nota 15) | B29: =+'NOTAS '!F363 -> 2655608.9 | D29: =+'NOTAS '!H363 -> 373820.1
A30: Provisiones a corto plazo (Nota 16) | B30: =+'NOTAS '!F377 -> 23311559 | D30: =+'NOTAS '!H377 -> 20861890
A31: Total pasivos corrientes | B31: =SUM(B28:B30) -> 52259335 | D31: =SUM(D28:D30) -> 37399303
A33: Pasivos no corrientes
A34: Préstamos por pagar a largo plazo (Nota 17) | B34: =+'NOTAS '!F390 -> 4228461.3 | D34: =+'NOTAS '!H390 -> 6471146.4 | F34: =+B34-D34 -> -2242685.1 | G34: empleado feliz | H34: 6753971 | I34: 4382078 | J34: =+B34-I34 -> -153616.7 | K34: empleado feliz
A35: Provisiones a largo plazo (Nota 18) | B35: =+'NOTAS '!F403 -> 4049462.4 | D35: =+'NOTAS '!H403 -> 10499512 | F35: =SUM(F20:F34) -> -84185.9
A36: Total pasivos no corrientes | B36: =SUM(B34:B35) -> 8277923.7 | D36: =SUM(D34:D35) -> 16970659 | J36: =SUM(J20:J34) -> -0.94
A37: Total Pasivos | B37: =+B31+B36 -> 60537259 | D37: =+D31+D36 -> 54369962
A39: Activos Netos/Patrimonio (Nota 19)
A40: Capital | B40: =+'NOTAS '!F415 -> 46598840 | C40: =+'NOTAS '!G415 -> 0 | D40: =+'NOTAS '!H415 -> 46598840
A41: Resultados pasitivos (ahorro) / negativo (desahorro) | B41: =+'NOTAS '!F416 -> -6944358.1 | D41: =+'NOTAS '!H416 -> -17400947
A42: Resultados acumulados | B42: =+'NOTAS '!F417 -> 40778558 | D42: =+'NOTAS '!H417 -> 89753228
A43: Total activos netos/ patrimonio | B43: =SUM(B40:B42) -> 80433041 | D43: =SUM(D40:D42) -> 1.1895112e+08
A45: TOTAL PASIVOS Y PATRIMONIO | B45: =+B37+B43 -> 1.409703e+08 | D45: =+D37+D43 -> 1.7332108e+08
A49: Las notas 7 a la 28 son parte integral de estos Estados Financieros.

Sheet ESTADO DE RESULTADOS
A5: =+'BALANCE GENERAL'!A6:E6 -> CONSEJO NACIONAL DE ZONAS FRANCAS DE EXPORTACION (5150)
A6: Estado de Rendimiento Financiero
A7: =+'BALANCE GENERAL'!A8:E8 -> Al 30 de junio semestre 2026 y 30 de junio semestre 2025
A8: ( VALORES EN RD$)
A12: Ingresos | B12: 2025 | D12: 2024
A14: Ingresos por Transaciones con contraprestaciones (Nota 20) | B14: =+'NOTAS '!F431 -> 1.0149882e+08 | D14: =+'NOTAS '!H431 -> 82622842
A15: Transferencias y donaciones (Nota 21) | B15: =+'NOTAS '!F445 -> 35853312 | D15: =+'NOTAS '!H445 -> 35989314
A16: Total ingresos | B16: =SUM(B14:B15) -> 1.3735213e+08 | D16: =SUM(D14:D15) -> 1.1861216e+08
A18: Gastos (Notas 22,23,24,25,26,27,28)
A19: Sueldos, salarios y beneficios a empleados | B19: =+'NOTAS '!Q471 -> 97524393 | D19: =+'NOTAS '!Q468 -> 90013590
A20: Subvenciones y Otros Pagos por transferencias | B20: =+'NOTAS '!F504 -> 7121707.7 | D20: =+'NOTAS '!H504 -> 6992291
A21: Suministros y Materiales para consumo | B21: =+'NOTAS '!F529 -> 13037071 | D21: =+'NOTAS '!H529 -> 16302941
A22: Gastos de depreciacion y amortizacion | B22: =+'NOTAS '!F540 -> 3570951.8 | D22: =+'NOTAS '!H540 -> 2954676.4
A23: Otros gastos | B23: =+'NOTAS '!F567 -> 22904719 | D23: =+'NOTAS '!H567 -> 19513381
A24: Gastos financieros | B24: =+'NOTAS '!F579 -> 115231.35 | D24: =+'NOTAS '!H579 -> 227400.51
A25: Total gastos | B25: =SUM(B19:B24) -> 1.4427407e+08 | D25: =SUM(D19:D24) -> 1.3600428e+08
A27: Ganancias (pérdida) por diferencia en operaciones | B27: =-'NOTAS '!F590 -> -22417.11 | D27: =-'NOTAS '!H590 -> -8823.48
A29: Participacion en resultado de asociados | B29: 0 | D29: 0
A31: Resultados positivos (ahorro0/negativo (desahorro) | B31: =+B16-B25+B27 -> -6944358 | D31: =+D16-D25+D27 -> -17400947
A34: Las notas 7 a la 28 son parte integral de estos Estados Financieros.

Sheet FLUJO DE EFECTIVO ACTUAL
A7: =+'ESTADO DE RESULTADOS'!A5:E5 -> CONSEJO NACIONAL DE ZONAS FRANCAS DE EXPORTACION (5150)
A8: Estado de Flujo de Efectivo
A9: =+'ESTADO DE RESULTADOS'!A7:E7 -> Al 30 de junio semestre 2026 y 30 de junio semestre 2025
A10: (Valores en RD$)
B12: 2026 | D12: 2025
A14: Flujo de Efectivo procedentes de actividades de operación (AOP)
A15: Cobros por Bienes y Servicios | B15: =+'NOTAS '!F431 -> 1.0149882e+08 | D15: =+'NOTAS '!H431 -> 82622842
A16: Cobros de subvenciones, transferencias, y otras asignaciones | B16: =+'NOTAS '!F445 -> 35853312 | D16: =+'NOTAS '!H445 -> 35989314
A17: Pagos a los trabajadores en beneficio de ellos | B17: =-'NOTAS '!F482+7717930 -> -89806463 | D17: =-'NOTAS '!H482+'NOTAS '!S461 -> -82720454
A18: Pagos por contribuciones a la seguridad social | B18: =-'NOTAS '!F461-'NOTAS '!F462-'NOTAS '!F463 -> -7717930.5 | D18: =-'NOTAS '!S461 -> -7293135.8
A19: Pagos a proveedores | B19: =-'NOTAS '!F504-'NOTAS '!F529-'NOTAS '!F567+'BALANCE GENERAL'!I14+8134386 -> -34929112 | D19: -26621201
A20: Otros pagos. | B20: =-'NOTAS '!F579 -> -115231.35 | D20: =-'NOTAS '!H579 -> -227400.51
A22: Flujos de efectivo netos de las actividades de operación | B22: =SUM(B15:B20) -> 4783396.4 | D22: =SUM(D15:D20) -> 1749963.9
A24: Flujos de efectivo de las acividades de inversion (AINV)
A25: Pagos por adquisicion de propiedad, planta y equipo | B25: =-'NOTAS '!D234 -> -2085884 | D25: -6842913
A26: Otros pagos | B26: 0
A27: Flujos de efectivo netos por las actividades de inversion | B27: =SUM(B25:B26) -> -2085884 | D27: =SUM(D25:D26) -> -6842913
A29: Flujos de efectivo netos por las actividades de financiación
A30: Cobros por Préstamos Pagaré, Hipoteca | B30: =+'BALANCE GENERAL'!J20 -> 153615.76 | D30: 209725
A31: Otros Cobros | D31: 0
A32: Pagos reembolsos en efectivo de los montos recibidos en Préstamos, Pagaré Hipoteca | B32: =+'BALANCE GENERAL'!J34 -> -153616.7 | D32: -282825
A33: Otros pagos
A34: Flujos de efectivo netos por las actividades de financiacion | B34: =SUM(B30:B33) -> -0.94 | D34: =SUM(D30:D33) -> -73100
A36: Incremento (disminución) neto en el efectivo y equivalentes al efectivo. | B36: =+B22+B27+B34 -> 2697511.4 | D36: =+D22+D27+D34 -> -5166049.1
A37: Efectivo y equivalente de efectivo al inicio del periodo. | B37: 97167356 | D37: 144024143
A38: Efectivo y equivalentes al efectivo al final del ejercicio | B38: =SUM(B36:B37) -> 99864867 | D38: =SUM(D36:D37) -> 1.3885809e+08
A55: Las notas 7 a la 28 son parte integral de estos Estados Financieros.

Sheet CAMBIO PATRIM.
B5: CONSEJO NACIONAL DE ZONAS FRANCAS DE EXPORTACION (5150)
B6: Estado de Cambio de Activo / Patrimonio
B7: AL 30 DE JUNIO SEMESTRE 2025 Y 30 DE JUNIO SEMESTRE 2026
B8: (Valores en RD$)
E10: Capital Aportado | G10: Cambios en Políticas Contables | I10: Revaluación | K10: Resultados Acumulados | M10: Total Activos Netos / Patrimonio
C11: Saldo al 30 de junio 2024 | E11: 46598841 | G11: 0 | I11: 0 | K11: =+'BALANCE GENERAL'!D42 -> 89753228 | M11: =SUM(E11:K11) -> 1.3635207e+08
C12: Cambio en políticas contables | E12: 0 | G12: 0 | M12: =SUM(E12,G12,I12,K12) -> 0
C13: Revaluación de Propiedad, planta y equipo | E13: 0 | I13: 0 | M13: =SUM(E13,G13,I13,K13) -> 0
C14: Ajuste al patrimonio | E14: 0 | M14: =SUM(E14,G14,I14,K14) -> 0
C15: Resultado del período | E15: 0 | K15: =+'BALANCE GENERAL'!D41 -> -17400947 | M15: =SUM(E15,G15,I15,K15) -> -17400947
C16: Saldo al 30 de junio 2025 | E16: =SUM(E11:E15) -> 46598841 | G16: =SUM(G11:G15) -> 0 | I16: =SUM(I11:I15) -> 0 | K16: =SUM(K11:K15) -> 72352281 | M16: =SUM(M11:M15) -> 1.1895112e+08
C19: Cambio en políticas contables | E19: 46598841 | G19: 0 | K19: =+'NOTAS '!F417 -> 40778558 | M19: =SUM(E19,G19,I19,K19)-1 -> 87377398
C20: Revaluación de Propiedad, planta y equipo | E20: 0 | I20: 0 | M20: =SUM(E20,G20,I20,K20) -> 0
C21: Efecto del gasto de depreciación de los activos revaluados | E21: 0 | I21: 0 | K21: 0 | M21: =SUM(E21,G21,I21,K21) -> 0
C22: Ajuste al patrimonio | E22: 0 | K22: 0 | M22: =SUM(E22,G22,I22,K22) -> 0
C23: Resultado del período | E23: 0 | K23: =+'NOTAS '!F416 -> -6944358.1 | M23: =SUM(E23,G23,I23,K23) -> -6944358.1
C24: Saldo al 30 de junio 2026 | E24: =SUM(E19:E23) -> 46598841 | G24: =SUM(G23,G16) -> 0 | I24: =SUM(I23,I16) -> 0 | K24: =SUM(K19:K23) -> 33834200 | M24: =SUM(M19:M23) -> 80433040
C41: Las notas 7 a la 28 son parte integral de estos Estados Financieros.

Sheet ESTADO COMP.PRESUPUESTO 
A1: CONSEJO NACIONAL DE ZONAS FRANCAS DE EXPORTACION (5150)
A2: Estado de Comparación de los Importes Presupuestados y Realizados
A3: Durante el mes Terminado Al 30 de junio 2026
A4: Presupuesto sobre la Base de Efectivo
A5: (Clasificación de Ingresos y Gastos por Objeto)
B7: Concepto | D7: Presupuesto Reformado (A) | E7: Presupuesto Ejecutado (B) | F7: % de Variac Ejecución (C=B/A) | G7: Variación (D=A-B)
B8: 1 | C8: Ingresos totales | D8: =SUM(D9:D12) -> 376550620 | E8: =SUM(E9:E11) -> 1.3735213e+08 | F8: =+E8/D8 -> 0.36476406 | G8: =+D8-E8 -> 2.3919849e+08
B9: 1.3 | C9: Donaciones | D9: 0 | E9: 0 | F9: 0 | G9: =+D9-E9 -> 0
B10: 1.4 | C10: Transferencias | D10: =67478631+4500000 -> 71978631 | E10: =33603312+2250000 -> 35853312 | F10: =+E10/D10 -> 0.4981105 | G10: =+D10-E10 -> 36125319
B11: 1.5 | C11: Ingresos por contraprestación | D11: =215000000 -> 215000000 | E11: =137352132.52-35853312 -> 1.0149882e+08 | F11: =+E11/D11 -> 0.47208754 | G11: =+D11-E11 -> 1.1350118e+08
B12: 3 | C12: Fuentes Financieras | D12: =+D13 -> 89571989 | E12: 0 | G12: 0
B13: 3.1 | C13: Disminucion de activos financieros | D13: 89571989
B14: 2 | C14: Gastos totales | D14: =SUM(D15:D22) -> 376550620 | E14: =SUM(E15:E22) -> 1.1534759e+08 | F14: =+E14/D14 -> 0.30632691 | G14: =+D14-E14 -> 2.6120303e+08
B15: 2.1 | C15: Remuneraciones y contribuciones | D15: 187606000 | E15: =76223760.03+1290528 -> 77514288 | F15: =+E15/D15 -> 0.41317595 | G15: =+D15-E15 -> 1.1009171e+08
B16: 2.2 | C16: Contratación de servicios | D16: 130009989 | E16: =4526386.26+22160701.51 -> 26687088 | F16: =+E16/D16 -> 0.20526952 | G16: =+D16-E16 -> 1.033229e+08
B17: 2.3 | C17: Materiales y suministros | D17: 32129631 | E17: =386706+7017479.65 -> 7404185.7 | F17: =+E17/D17 -> 0.23044727 | G17: =+D17-E17 -> 24725445
B18: 2.4 | C18: Transferencias corrientes | D18: 15305000 | E18: =1247851.24+408292 -> 1656143.2 | F18: =+E18/D18 -> 0.10820929 | G18: =+D18-E18 -> 13648857
B19: 2.6 | C19: Bienes muebles, inmuebles e intangibles | D19: 11500000 | E19: 2085884 | F19: =+E19/D19 -> 0.18138122 | G19: =+D19-E19 -> 9414116
B20: 2.7 | C20: Obras | D20: 0 | E20: 0
B21: 4.2 | C21: Disminución de pasivos | E21: 0 | F21: 0 | G21: =+D21-E21 -> 0
B22: 4.3 | C22: Disminución de Fondos de Terceros | D22: 0 | E22: 0 | F22: 0 | G22: =+D22-E22 -> 0
C23: Resultado financiero (1-2) | D23: =+D8-D14 -> 0 | E23: =+E8-E14 -> 22004544 | F23: =+F8-F14 -> 0.058437147 | G23: =+G8-G14 -> -22004544
C39: Ingresos ejecutado CNZFE | D39: =+E8 -> 1.3735213e+08
C40: Gastos ejecutado CNZFE | D40: =144296490.56-3570951.76-54056.15-503705.7-146058.85-2988677.64 -> 1.3703304e+08
C41: Ejecución ingresos s/gastos CNZFE | D41: =+D39-D40 -> 319092.06
C42: Devengado Ingresos.en SIGEF | E42: 1.3556611e+08
C43: Devengado Gtos.en SIGEF | E43: =+E14 -> 1.1534759e+08
C44: Ejecución ingresos s/gastos SIGEF | E44: =+E42-E43 -> 20218519
C45: Diferencia entre CNZFE Y SIGEF | E45: =+E23-E44-D41 -> 1466933.2
C47: Pendiente de Regularizar | D47: 14741094
C48: Amortizaciones/ | D48: 3692498.3
C49: Depreciacion | D49: 3570951.8
D50: =SUM(D47:D49) -> 22004544

Sheet NOTAS 
C1: NOTAS A LOS ESTADOS FINANCIEROS
C2: SEMESTRE ENERO - JUNIO DE LOS AÑOS 2026 Y 2025
C3: VALORES (RD$)
A5: Nota 1:
A7: A) Entidad Económica No Financiera, clasificada como Institución Pública Descentralizada o Autónoma Capítulo (5150).
A8: El Consejo Nacional de Zonas Francas de Exportacion (CNZFE), organismo creado por la Ley 8-90 sobre Zonas Francas en la Republica
A9: Dominicana, y designado como órgano rector de dicho sector del país, con domicilio en la calle Leopoldo Navarro No. 61, Edificio
A10: San Rafael, pisos 4 y 5, Sector Miraflores, Santo Domingo, D.N., tiene como funciones básicas:
A12: a. Conocer, evaluar y recomendar al Poder Ejecutivo la instalación de zonas francas de exportación;
A13: c. Participar en las negociaciones, acuerdos, tratados, etc., nacionales y extranjeros que se relacionen con las operaciones y actividades
A14: de las zonas francas de exportación;
A15: d. Realizar el levantamiento de las estadísticas, procedimientos y controles necesarios a fin de dar cabal cumplimiento a los acuerdos y
A16: negociaciones;
A17: e. Velar por el estricto cumplimiento de la referida ley y de las disposiciones legales que sean dictadas sobre la materia, y tomar las
A18: medidas de lugar en caso de violación a las mismas.
... A27: los siguientes:
A28: Johannes Marinus Kelner De Benito | D28: Director Ejecutivo
A29: Yarisol Lopez | D29: Sub Directora Ejecutiva
A30: Xavier José Medina Concepción | D30: Encargado Administrativo y Financiero
A31: Edita Altagracia Peña Ureña | D31: Encargada de Contabilidad
A33: Nota 3: Base de Presentación:
A35: Los Estados Financieros Comparativos, han sido preparados de conformidad con Las Normas Internacionales de Contabilidad
A36: (NICSP), aplicable al Sector Público No Financiero y Sustentada en Políticas Contables Significativas, adoptadas por la Dirección
A37: General de Contabilidad Gubernamental (DIGECOG).
A39: El Consejo Nacional de Zonas Francas de Exportación presenta su presupuesto aprobado según la base contable de efectivo y los
A40: Estados financieros sobre la base de acumulación (o devengado) conforme a las estipulaciones de las NICSP 24:
A41: Presentación de Información del Presupuesto en los Estados Financieros.
A43: El Presupuesto se aprueba según la base contable de efectivo siguiendo una clasificación de pago por funciones.
A45: El presupuesto aprobado cubre el periodo fiscal que va desde el 1ero.de Enero hasta el 31 de diciembre de 2026 y su ejecución
A46: por el periodo ejecutado, el cual es incluido como informacion suplementaria en los Estados Financieros y sus Notas.
A48: Nota 4: Moneda funcional y de presentación:
A50: Los Estados Financieros están presentados en pesos dominicanos (RD$), moneda de curso legal en República Dominicana.
... A127: sobre la renta y actúa como agente de retención.
A129: Nota 7 : | B129: Efectivo Equivalente de efectivo:
A131: Un detalle del efectivo y equivalente Al 30 de junio del semestre 2026 y al 30 de junio del semestre 2025, es como sigue:
A133: DESCRIPCION | F133: 2026 | H133: 2025
A134: Fondos reponibles (Cajas Chicas) y (Fondo de devoluciones) | F134: 222000 | H134: 172000
A135: Sub. Cuenta 0100-115001- (CUT) | F135: 152901.45 | H135: 806687.25
A136: Cuenta colectora BR-010-2524521 (CUT) F-9995 | F136: 0 | H136: 0
A137: Cuenta Operativa BR-0100-102491690 (F-9995) | F137: 7502497.3 | H137: 7129492.5
...

Sheet REG. NO MONETARIOS
B2: CONSEJO NACIONAL DE ZONAS FRANCAS DE EXPORTACION (5150)
B3: Registros no monetarios para fines de flujo de efectivo
B4: (Valores en RD$)
C7: =+'NOTAS '!F267 -> 2026 | F7: =+'NOTAS '!H267 -> 2025
B8: Gasto depreciación | C8: Débito | D8: Crédito | F8: Débito | G8: Crédito
B9: Gasto depreciación | C9: =+'NOTAS '!F538 -> 3570951.8 | F9: =+'NOTAS '!H538 -> 2954676.4
B10: Gasto depreciación | C10: 0 | F10: 0
B11: Depreciación acumulada | D11: =+C9 -> 3570951.8 | G11: =+F9 -> 2954676.4
C12: =SUM(C9:C11) -> 3570951.8 | D12: =SUM(D11) -> 3570951.8 | F12: =SUM(F9:F11) -> 2954676.4 | G12: =SUM(G11) -> 2954676.4
B14: Gasto amortización
B15: Gasto amortización | C15: =+'NOTAS '!F539 -> 0 | F15: =+'NOTAS '!H539 -> 0
B16: Amortización | D16: =+C15 -> 0 | G16: =+F15 -> 0
B18: Retiros
B19: Depreciación acumulada | C19: =+'NOTAS '!E241 -> -308322.41 | F19: =+'NOTAS '!F258 -> 62245
B20: Pérdida por retiros de activos | C20: 0
B21: PPE | D21: =+C19 -> -308322.41 | G21: =+F19 -> 62245
B22: PPE
C23: =SUM(C19:C22) -> -308322.41 | D23: =SUM(D21:D22) -> -308322.41 | F23: =SUM(F19:F22) -> 62245 | G23: =SUM(G21:G22) -> 62245
B25: Retiros
B26: Amortización | C26: 2141793 | F26: 2300510
B27: Pérdida por retiros de activos | C27: 3335319 | F27: 2115664
B28: Intangible | D28: 5477112 | G28: 4416174
C29: 5477112 | D29: 5477112 | F29: 4416174 | G29: 4416174

Sheet CUADRO DE ACTIVOS
D8: Maquinarias y Equipos | E8: Mobiliarios y equipos de oficinas | F8: Equipos de transportes y otros | G8: Total
B11: Costo de adquisicion inicio octubre 2019
D12: 34123.97 | E12: 40730751 | F12: 14368520 | G12: =+D12+E12+F12 -> 55133394
B13: Adicionales | D13: 0 | E13: 0 | F13: 0 | G13: 0
B14: Retiros | D14: 0 | E14: 0 | F14: 0 | G14: 0
B15: Depreciacion Acumulada
D16: -27886.58 | E16: -26824718 | F16: -10223447 | G16: =SUM(D16:F16) -> -37076051
B17: Saldo al final del periodo Noviembre 2019 | D17: =+D12+D16 -> 6237.39 | E17: =+E12+E16 -> 13906033 | F17: =+F12+F16 -> 4145072.8 | G17: =+G12+G16 -> 18057343
B20: Al inicio del periodo | D20: =+D12 -> 34123.97 | E20: =40680206.41+87941.48 -> 40768148 | F20: 14368520 | G20: =+D20+E20+F20 -> 55170791
B21: Depreciacion Acumulada | D21: -27993.33 | E21: =-27118990.92 -> -27118991 | F21: -10395323 | G21: =+D21+E21+F21 -> -37542307
B23: Saldo al final del periodo Diciembre 2019 | D23: =+D20+D21 -> 6130.64 | E23: =+E20+E21 -> 13649157 | F23: =+F20+F21 -> 3973196.8 | G23: =+G20+G21 -> 17628484
